BEGIN:VCALENDAR
VERSION:2.0
PRODID:-//Greenlife Industry Qld - ECPv6.15.20//NONSGML v1.0//EN
CALSCALE:GREGORIAN
METHOD:PUBLISH
X-WR-CALNAME:Greenlife Industry Qld
X-ORIGINAL-URL:https://greenlifeindustryqld.org.au
X-WR-CALDESC:Events for Greenlife Industry Qld
REFRESH-INTERVAL;VALUE=DURATION:PT1H
X-Robots-Tag:noindex
X-PUBLISHED-TTL:PT1H
BEGIN:VTIMEZONE
TZID:Australia/Brisbane
BEGIN:STANDARD
TZOFFSETFROM:+1000
TZOFFSETTO:+1000
TZNAME:AEST
DTSTART:20250101T000000
END:STANDARD
END:VTIMEZONE
BEGIN:VEVENT
DTSTART;TZID=Australia/Brisbane:20260205T083000
DTEND;TZID=Australia/Brisbane:20260205T163000
DTSTAMP:20260421T140503
CREATED:20260116T042221Z
LAST-MODIFIED:20260116T042221Z
UID:13074-1770280200-1770309000@greenlifeindustryqld.org.au
SUMMARY:Business Planning Event - Good Growers Network Participants Only
DESCRIPTION:This face-to-face training is mandatory for all participants where we focus on identifying the key issues that are causing frustration\, overwhelm or holding your business back.\n \nTamara will guide you through setting up structure and simple processes to bring order to the chaos — giving you practical tools to start streamlining your operations and rediscovering the joy in your business.\nWe’ll dive deeper into solutions and implementation. You’ll get your questions answered and walk away with clarity and confidence to run your business more efficiently.\n \nWHAT YOU’LL WALK AWAY WITH:\n• Your questions answered\n• Practical solutions to your biggest business challenges\n• Easy-to-use systems that actually work\n• Clear direction on where to focus your time and energy\n• An action plans and tools tailored to your needs\n \nYou will receive an email with all the finer location details. You will need to have viewed the pre-training videos before attending this event and filled out your business plan form. Please download your completed form and bring to this session.
URL:https://greenlifeindustryqld.org.au/event/business-planning-event-good-growers-network-participants-only/
LOCATION:1326 Ipswich Road Rocklea\, QLD 4106
END:VEVENT
END:VCALENDAR