BEGIN:VCALENDAR
VERSION:2.0
PRODID:-//Greenlife Industry Qld - ECPv6.15.20//NONSGML v1.0//EN
CALSCALE:GREGORIAN
METHOD:PUBLISH
X-WR-CALNAME:Greenlife Industry Qld
X-ORIGINAL-URL:https://greenlifeindustryqld.org.au
X-WR-CALDESC:Events for Greenlife Industry Qld
REFRESH-INTERVAL;VALUE=DURATION:PT1H
X-Robots-Tag:noindex
X-PUBLISHED-TTL:PT1H
BEGIN:VTIMEZONE
TZID:Australia/Brisbane
BEGIN:STANDARD
TZOFFSETFROM:+1000
TZOFFSETTO:+1000
TZNAME:AEST
DTSTART:20240101T000000
END:STANDARD
END:VTIMEZONE
BEGIN:VEVENT
DTSTART;TZID=Australia/Brisbane:20251114T180000
DTEND;TZID=Australia/Brisbane:20251114T233000
DTSTAMP:20260422T024416
CREATED:20250609T050258Z
LAST-MODIFIED:20251022T004932Z
UID:11957-1763143200-1763163000@greenlifeindustryqld.org.au
SUMMARY:Big Spring Dinner Party 2025
DESCRIPTION:The Big Spring Dinner Party\, presented by QPP and Greenlife Industry Qld – a relaxed coastal celebration of Queensland’s greenlife industry. \nInspired by the theme Octopus’s Garden\, this event brings our industry together to connect\, unwind\, and recognise the outstanding achievements of the year through the 2025 Greenlife Awards. \nSpecial Offer: Buy 4 tickets\, get the 5th ticket free. \nAccommodation: The Ramada is now fully booked on this date. We have organised alternate accommodation with the Holiday Express Inn in Maroochydore. A free shuttle bus will be available to take you to and from the venue in Marcoola. \nREGISTER NOW
URL:https://greenlifeindustryqld.org.au/event/giq-summer-break-beach-party/
LOCATION:Surfair Marcoola\, 923 David Low Way\, Marcoola\, QLD\, 4564\, Australia
ATTACH;FMTTYPE=image/jpeg:https://greenlifeindustryqld.org.au/wp-content/uploads/17896-Big-Spring-Dinner_Eventbrite_2160x1080px.jpg
END:VEVENT
END:VCALENDAR