BEGIN:VCALENDAR
VERSION:2.0
PRODID:-//Greenlife Industry Qld - ECPv6.15.20//NONSGML v1.0//EN
CALSCALE:GREGORIAN
METHOD:PUBLISH
X-WR-CALNAME:Greenlife Industry Qld
X-ORIGINAL-URL:https://greenlifeindustryqld.org.au
X-WR-CALDESC:Events for Greenlife Industry Qld
REFRESH-INTERVAL;VALUE=DURATION:PT1H
X-Robots-Tag:noindex
X-PUBLISHED-TTL:PT1H
BEGIN:VTIMEZONE
TZID:Australia/Brisbane
BEGIN:STANDARD
TZOFFSETFROM:+1000
TZOFFSETTO:+1000
TZNAME:AEST
DTSTART:20250101T000000
END:STANDARD
END:VTIMEZONE
BEGIN:VEVENT
DTSTART;TZID=Australia/Brisbane:20260417T070000
DTEND;TZID=Australia/Brisbane:20260417T090000
DTSTAMP:20260420T012744
CREATED:20260302T041826Z
LAST-MODIFIED:20260302T041826Z
UID:13198-1776409200-1776416400@greenlifeindustryqld.org.au
SUMMARY:Greenstock Nursery Tour
DESCRIPTION:
URL:https://greenlifeindustryqld.org.au/event/greenstock-nursery-tour/
LOCATION:Greenstock Nursery\, 45 Irwin Road\, Elimbah\, QLD\, 4561\, Australia
END:VEVENT
END:VCALENDAR