BEGIN:VCALENDAR
VERSION:2.0
PRODID:-//Greenlife Industry Qld - ECPv6.15.20//NONSGML v1.0//EN
CALSCALE:GREGORIAN
METHOD:PUBLISH
X-WR-CALNAME:Greenlife Industry Qld
X-ORIGINAL-URL:https://greenlifeindustryqld.org.au
X-WR-CALDESC:Events for Greenlife Industry Qld
REFRESH-INTERVAL;VALUE=DURATION:PT1H
X-Robots-Tag:noindex
X-PUBLISHED-TTL:PT1H
BEGIN:VTIMEZONE
TZID:Australia/Brisbane
BEGIN:STANDARD
TZOFFSETFROM:+1000
TZOFFSETTO:+1000
TZNAME:AEST
DTSTART:20240101T000000
END:STANDARD
END:VTIMEZONE
BEGIN:VEVENT
DTSTART;TZID=Australia/Brisbane:20250829T140000
DTEND;TZID=Australia/Brisbane:20250829T160000
DTSTAMP:20260422T072223
CREATED:20250723T005854Z
LAST-MODIFIED:20250723T015652Z
UID:12385-1756476000-1756483200@greenlifeindustryqld.org.au
SUMMARY:Industry Forum - A New Dialog in the Fight Against Fire Ants
DESCRIPTION:Join Greenlife Industry Queensland and representatives from the National Fire Ant Eradication Program (NFAEP) for a grower-focused forum tackling one of the industry’s most pressing biosecurity threats. This interactive session will explore what’s working\, what’s not\, and how we can collaborate more effectively to contain\, comply\, and eradicate. \nThis forum is exclusive to GIQ members – limited spots available. \nREGISTER NOW
URL:https://greenlifeindustryqld.org.au/event/industry-forum-a-new-dialog-in-the-fight-against-fire-ants/
LOCATION:145-157 Wayne Goss Dr\, Berrinba QLD 4117
ATTACH;FMTTYPE=image/jpeg:https://greenlifeindustryqld.org.au/wp-content/uploads/Industry-Forum-SM-Tile-FINAL.jpg
END:VEVENT
END:VCALENDAR