BEGIN:VCALENDAR
VERSION:2.0
PRODID:-//Greenlife Industry Qld - ECPv6.15.20//NONSGML v1.0//EN
CALSCALE:GREGORIAN
METHOD:PUBLISH
X-WR-CALNAME:Greenlife Industry Qld
X-ORIGINAL-URL:https://greenlifeindustryqld.org.au
X-WR-CALDESC:Events for Greenlife Industry Qld
REFRESH-INTERVAL;VALUE=DURATION:PT1H
X-Robots-Tag:noindex
X-PUBLISHED-TTL:PT1H
BEGIN:VTIMEZONE
TZID:Australia/Brisbane
BEGIN:STANDARD
TZOFFSETFROM:+1000
TZOFFSETTO:+1000
TZNAME:AEST
DTSTART:20240101T000000
END:STANDARD
END:VTIMEZONE
BEGIN:VEVENT
DTSTART;TZID=Australia/Brisbane:20250515T183000
DTEND;TZID=Australia/Brisbane:20250515T203000
DTSTAMP:20260420T093914
CREATED:20250509T010820Z
LAST-MODIFIED:20250509T010820Z
UID:11261-1747333800-1747341000@greenlifeindustryqld.org.au
SUMMARY:North Queensland Members Dinner with Colin
DESCRIPTION:You’re warmly invited to join us for an evening with GIQ CEO Colin Fruk\, bringing together members from across North Queensland. It’s a great chance to reconnect\, exchange ideas\, and catch up on the latest industry updates with Colin.\n \nDate & Time\nThursday 15th May at 6:30pm\nLocation\nSalt House\nMarina Point\, 6/2 Pier Point Rd\nCairns City QLD 4870 \nMain meals are included in your registration. Please ensure you provide any dietary preferences. Drinks can be purchased separately. \nPlease RSVP by Wednesday 14 May \nRegister Now
URL:https://greenlifeindustryqld.org.au/event/north-queensland-members-dinner-with-colin/
LOCATION:Salt House\, Marina Point\, 6/2 Pier Point Rd\, Cairns City\, QLD\, 4870\, Australia
ATTACH;FMTTYPE=image/avif:https://greenlifeindustryqld.org.au/wp-content/uploads/Cairns-Waterfront.avif
END:VEVENT
END:VCALENDAR