BEGIN:VCALENDAR
VERSION:2.0
PRODID:-//Greenlife Industry Qld - ECPv6.15.20//NONSGML v1.0//EN
CALSCALE:GREGORIAN
METHOD:PUBLISH
X-WR-CALNAME:Greenlife Industry Qld
X-ORIGINAL-URL:https://greenlifeindustryqld.org.au
X-WR-CALDESC:Events for Greenlife Industry Qld
REFRESH-INTERVAL;VALUE=DURATION:PT1H
X-Robots-Tag:noindex
X-PUBLISHED-TTL:PT1H
BEGIN:VTIMEZONE
TZID:Australia/Brisbane
BEGIN:STANDARD
TZOFFSETFROM:+1000
TZOFFSETTO:+1000
TZNAME:AEST
DTSTART:20240101T000000
END:STANDARD
END:VTIMEZONE
BEGIN:VEVENT
DTSTART;TZID=Australia/Brisbane:20250327T180000
DTEND;TZID=Australia/Brisbane:20250327T203000
DTSTAMP:20260426T084210
CREATED:20241212T045040Z
LAST-MODIFIED:20250327T070822Z
UID:10353-1743098400-1743107400@greenlifeindustryqld.org.au
SUMMARY:Plantmark Wholesale Nurseries - TOUR!
DESCRIPTION:Plantmark Wholesale Nurseries \nThursday 27th March 2025\n5 Market St\, Carrara Queensland \n5:30pm Arrival * 6pm Tour * 8:30pm Event Concludes\nDinner and drinks provided\nRegistrations will open early February 2025.
URL:https://greenlifeindustryqld.org.au/event/plantmark-nursery-tour/
ATTACH;FMTTYPE=image/webp:https://greenlifeindustryqld.org.au/wp-content/uploads/Plantmark-Tour-c.webp
END:VEVENT
END:VCALENDAR