BEGIN:VCALENDAR
VERSION:2.0
PRODID:-//Greenlife Industry Qld - ECPv6.15.20//NONSGML v1.0//EN
CALSCALE:GREGORIAN
METHOD:PUBLISH
X-WR-CALNAME:Greenlife Industry Qld
X-ORIGINAL-URL:https://greenlifeindustryqld.org.au
X-WR-CALDESC:Events for Greenlife Industry Qld
REFRESH-INTERVAL;VALUE=DURATION:PT1H
X-Robots-Tag:noindex
X-PUBLISHED-TTL:PT1H
BEGIN:VTIMEZONE
TZID:Australia/Brisbane
BEGIN:STANDARD
TZOFFSETFROM:+1000
TZOFFSETTO:+1000
TZNAME:AEST
DTSTART:20250101T000000
END:STANDARD
END:VTIMEZONE
BEGIN:VEVENT
DTSTART;TZID=Australia/Brisbane:20260413T120000
DTEND;TZID=Australia/Brisbane:20260413T130000
DTSTAMP:20260421T140436
CREATED:20260305T234632Z
LAST-MODIFIED:20260305T234632Z
UID:13245-1776081600-1776085200@greenlifeindustryqld.org.au
SUMMARY:Project Spotlight: Barangaroo Station Park - WEBINAR
DESCRIPTION:Join AILA and landscape architect Chris Tidswell from Arcadia as he shares insights into the design process and key takeaways from this transformative project.  \nThe design team is commended for skillfully resolving the complexities of a metro station entrance brief in a site with layered histories and stories\, creating a place of calm at the juncture of multiple circulation routes. The success of this project comes from the team’s ability to create a seamless transition around the station’s entrance by deftly stiching into the adjoining public spaces – the urban streetscape\, the biodiverse parklands and the constructed sandstone cove. Cultural and historic stories are layered thoughtfully within the public ream\, allowing the stories of this place to be appreciated. While primarily a place for movement\, the public domain also creates a generous area for passive enjoyment of Nawi Cove. \nOnce registered\, your webinar link for this event will be located in the registration confirmation email from AILA. 
URL:https://greenlifeindustryqld.org.au/event/project-spotlight-barangaroo-station-park-webinar/
LOCATION:Online
END:VEVENT
END:VCALENDAR