BEGIN:VCALENDAR
VERSION:2.0
PRODID:-//Greenlife Industry Qld - ECPv6.15.20//NONSGML v1.0//EN
CALSCALE:GREGORIAN
METHOD:PUBLISH
X-WR-CALNAME:Greenlife Industry Qld
X-ORIGINAL-URL:https://greenlifeindustryqld.org.au
X-WR-CALDESC:Events for Greenlife Industry Qld
REFRESH-INTERVAL;VALUE=DURATION:PT1H
X-Robots-Tag:noindex
X-PUBLISHED-TTL:PT1H
BEGIN:VTIMEZONE
TZID:Australia/Brisbane
BEGIN:STANDARD
TZOFFSETFROM:+1000
TZOFFSETTO:+1000
TZNAME:AEST
DTSTART:20240101T000000
END:STANDARD
END:VTIMEZONE
BEGIN:VEVENT
DTSTART;TZID=Australia/Brisbane:20251024T130000
DTEND;TZID=Australia/Brisbane:20251024T150000
DTSTAMP:20260422T032147
CREATED:20250917T025355Z
LAST-MODIFIED:20251003T034209Z
UID:12634-1761310800-1761318000@greenlifeindustryqld.org.au
SUMMARY:South Brisbane Branch Catch-up
DESCRIPTION:Join South Brisbane Branch’s new Branch Convenor\, Megan Williams\, at a relaxed catch up with other people in the nursery business — no guest speakers\, no long agendas\, just good company and a chance to swap stories and ideas. Colin from GIQ will also join to give a quick update and hear directly from members. \nWhether you’ve been involved with the branch for years\, or haven’t come along before\, this is a great chance to reconnect (or connect for the first time!). \nAll welcome. Free to GIQ members and their staff. $30pp for non-members. \nRegistrations are essential. \n  \nREGISTER NOW
URL:https://greenlifeindustryqld.org.au/event/south-brisbane-branch-catch-up/
LOCATION:The Glen Hotel\, Cnr Logan Road & Gaskell Street\, Eight Mile Plains\, QLD
ATTACH;FMTTYPE=image/png:https://greenlifeindustryqld.org.au/wp-content/uploads/South-Brisbane-Branch-Catch-Up-Eventbrite-Banner.png
END:VEVENT
END:VCALENDAR