BEGIN:VCALENDAR
VERSION:2.0
PRODID:-//Greenlife Industry Qld - ECPv6.15.20//NONSGML v1.0//EN
CALSCALE:GREGORIAN
METHOD:PUBLISH
X-WR-CALNAME:Greenlife Industry Qld
X-ORIGINAL-URL:https://greenlifeindustryqld.org.au
X-WR-CALDESC:Events for Greenlife Industry Qld
REFRESH-INTERVAL;VALUE=DURATION:PT1H
X-Robots-Tag:noindex
X-PUBLISHED-TTL:PT1H
BEGIN:VTIMEZONE
TZID:Australia/Brisbane
BEGIN:STANDARD
TZOFFSETFROM:+1000
TZOFFSETTO:+1000
TZNAME:AEST
DTSTART:20250101T000000
END:STANDARD
END:VTIMEZONE
BEGIN:VEVENT
DTSTART;TZID=Australia/Brisbane:20260716T163000
DTEND;TZID=Australia/Brisbane:20260716T183000
DTSTAMP:20260420T063208
CREATED:20260303T233601Z
LAST-MODIFIED:20260303T233601Z
UID:13221-1784219400-1784226600@greenlifeindustryqld.org.au
SUMMARY:Understanding the Customer Journey - WEBINAR
DESCRIPTION:Join CEMOH trainers Doug Bergez and Simon Dell for a live online webinar that explores turning prospects into customers.
URL:https://greenlifeindustryqld.org.au/event/understanding-the-customer-journey-webinar/
LOCATION:Online
END:VEVENT
END:VCALENDAR