BEGIN:VCALENDAR
VERSION:2.0
PRODID:-//Greenlife Industry Qld - ECPv6.15.20//NONSGML v1.0//EN
CALSCALE:GREGORIAN
METHOD:PUBLISH
X-WR-CALNAME:Greenlife Industry Qld
X-ORIGINAL-URL:https://greenlifeindustryqld.org.au
X-WR-CALDESC:Events for Greenlife Industry Qld
REFRESH-INTERVAL;VALUE=DURATION:PT1H
X-Robots-Tag:noindex
X-PUBLISHED-TTL:PT1H
BEGIN:VTIMEZONE
TZID:Australia/Brisbane
BEGIN:STANDARD
TZOFFSETFROM:+1000
TZOFFSETTO:+1000
TZNAME:AEST
DTSTART:20180101T000000
END:STANDARD
END:VTIMEZONE
BEGIN:VEVENT
DTSTART;TZID=Australia/Brisbane:20191107T083000
DTEND;TZID=Australia/Brisbane:20191107T160000
DTSTAMP:20260422T020612
CREATED:20191009T040427Z
LAST-MODIFIED:20191009T040427Z
UID:6278-1573115400-1573142400@greenlifeindustryqld.org.au
SUMMARY:Recovery & Resilience: Nursery Practices Workshop
DESCRIPTION:Held in conjunction with the Queensland Farmers’ Federation Climate and Weather Workshop\, the Nursery Practices Workshop offers practical discussion and solutions to nursery practices. \nDOWNLOAD REGISTRATION FORM
URL:https://greenlifeindustryqld.org.au/event/recovery-resilience-nursery-practices-workshop/
LOCATION:Mercure Hotel\, 166-194 Woolcock Street\, Townsville\, QLD\, 4810\, Australia
ORGANIZER;CN="NGIQ":MAILTO:events@ngiq.asn.au
END:VEVENT
BEGIN:VEVENT
DTSTART;VALUE=DATE:20191120
DTEND;VALUE=DATE:20191121
DTSTAMP:20260422T020612
CREATED:20190109T044732Z
LAST-MODIFIED:20191010T040337Z
UID:5196-1574208000-1574294399@greenlifeindustryqld.org.au
SUMMARY:BRISBANE TRADE DAY
DESCRIPTION:The Marquee\, Brisbane Showgrounds. Entry via Gate 5 O’Connell Terrace\, Bowen Hills \nFURTHER DETAILS & SCHEDULE AVAILABLE HERE \nSUPPORTING PARTNERS:  \n   
URL:https://greenlifeindustryqld.org.au/event/brisbane-trade-day-35/
LOCATION:The Marquee\, Brisbane Showgrounds\, Gate 5\, O'Connell Terrace\, Bowen Hills\, QLD\, 4006\, Australia
ORGANIZER;CN="NGIQ":MAILTO:events@ngiq.asn.au
END:VEVENT
BEGIN:VEVENT
DTSTART;TZID=Australia/Brisbane:20191122T180000
DTEND;TZID=Australia/Brisbane:20191122T180000
DTSTAMP:20260422T020612
CREATED:20190909T025857Z
LAST-MODIFIED:20191106T232441Z
UID:6263-1574445600-1574445600@greenlifeindustryqld.org.au
SUMMARY:North Brisbane Branch Christmas Party
DESCRIPTION:
URL:https://greenlifeindustryqld.org.au/event/north-brisbane-branch-christmas-party-4/
LOCATION:Daisy’s Place\, 2859 Steve Irwin Way\, Glenview\, qld\, 4553\, Australia
ORGANIZER;CN="NGIQ":MAILTO:events@ngiq.asn.au
END:VEVENT
BEGIN:VEVENT
DTSTART;TZID=Australia/Brisbane:20191129T143000
DTEND;TZID=Australia/Brisbane:20191129T143000
DTSTAMP:20260422T020612
CREATED:20190213T033009Z
LAST-MODIFIED:20190213T033009Z
UID:5614-1575037800-1575037800@greenlifeindustryqld.org.au
SUMMARY:NGIQ Annual General Meeting
DESCRIPTION:
URL:https://greenlifeindustryqld.org.au/event/ngiq-annual-general-meeting/
LOCATION:NGIQ Office\, Unit 1\, 250 Orange Grove Road\, Salisbury\, QLD\, 4107\, Australia
ORGANIZER;CN="NGIQ":MAILTO:events@ngiq.asn.au
END:VEVENT
BEGIN:VEVENT
DTSTART;TZID=Australia/Brisbane:20191129T183000
DTEND;TZID=Australia/Brisbane:20191129T230000
DTSTAMP:20260422T020612
CREATED:20190213T033113Z
LAST-MODIFIED:20191107T003749Z
UID:5615-1575052200-1575068400@greenlifeindustryqld.org.au
SUMMARY:NGIQ Annual Dinner
DESCRIPTION:Join NGIQ for a delicious 3 course dinner & drinks to celebrate another excellent year for industry. \nExperienced horticulturist\, Karen Smith will talk about terrific things happening in horticulture.  \nCome and hear from Karen about ‘Making Horticulture Great Again’ and relax to live jazz music after formalities. \n \nKaren Smith is an award-winning horticulturist who has worked in the broader horticultural industry for almost 30 years. Her experience started from the ground up working in nursery\, landscape\, design\, a consultant\, technical support and trainer. \nShe is the Senior Editor of Hort Journal Australia magazine and the NSW trainer for Yates Australia. She is an author and columnist\, a guest on Sydney talkback radio and co-host on community radio. \nKaren has been a facilitator\, presenter and MC at various industry functions and conferences both nationally and internationally. Karen is The President of the Interior Plantscape Association member of the Australian Institute of Horticulture\, the Horticultural Media Association and the International Plant Propagators Society. \nPre-dinner drinks from 6.30pm. Dinner from 7pm – 11pm \n$135 incl. GST per person or $965 incl. GST per table of 8 guests \nTicket includes 3 course dinner & drinks. Dress code is cocktail attire \nREGISTER NOW TO ATTEND \nNGIQ Annual Dinner 2019 sponsored by\n            
URL:https://greenlifeindustryqld.org.au/event/ngiq-annual-dinner-4/
LOCATION:Hotel Grand Chancellor\, Cnr Leichhardt Street & Wickham Terrace\, Brisbane\, QLD
ORGANIZER;CN="NGIQ":MAILTO:events@ngiq.asn.au
END:VEVENT
END:VCALENDAR